BEGIN:VCALENDAR
PRODID:-//HKUST Drupal Platform//EN
VERSION:2.0
BEGIN:VTIMEZONE
TZID:Asia/Hong_Kong
BEGIN:STANDARD
DTSTART:20071104T020000
TZOFFSETFROM:+0700
TZOFFSETTO:+0800
TZNAME:HKT
END:STANDARD
END:VTIMEZONE
BEGIN:VEVENT
DTSTAMP;TZID=Asia/Hong_Kong:20260426T071729
DTSTART;TZID=Asia/Hong_Kong:20180123T140000
DTEND;TZID=Asia/Hong_Kong:20180123T170000
LOCATION:Room 2302 (Lifts 17-18), 2/F Academic Building, HKUST
SUMMARY:PhD in Envrl Sci, Policy & Mgmt - Membrane Architecture for Self-humidifying PEMFC
UID:24932
END:VEVENT
END:VCALENDAR