BEGIN:VCALENDAR
PRODID:-//HKUST Drupal Platform//EN
VERSION:2.0
BEGIN:VTIMEZONE
TZID:Asia/Hong_Kong
BEGIN:STANDARD
DTSTART:20071104T020000
TZOFFSETFROM:+0700
TZOFFSETTO:+0800
TZNAME:HKT
END:STANDARD
END:VTIMEZONE
BEGIN:VEVENT
DTSTAMP;TZID=Asia/Hong_Kong:20260426T071728
DTSTART;TZID=Asia/Hong_Kong:20180124T100000
DTEND;TZID=Asia/Hong_Kong:20180124T130000
LOCATION:Room 1505 (Lifts 25-26), 1/F Academic Building, HKUST
SUMMARY:PhD in Bioengineering - Cancer Detection by Circulating Tumor Cell Capturing Combined with Molecular Marker Verification And Synergistic Anti-Cancer Effects of Proanthocyanidins from the Plant Urceola huaitingii with Chemotherapeutics
UID:24927
END:VEVENT
END:VCALENDAR