BEGIN:VCALENDAR
PRODID:-//HKUST Drupal Platform//EN
VERSION:2.0
BEGIN:VTIMEZONE
TZID:Asia/Hong_Kong
BEGIN:STANDARD
DTSTART:20071104T020000
TZOFFSETFROM:+0700
TZOFFSETTO:+0800
TZNAME:HKT
END:STANDARD
END:VTIMEZONE
BEGIN:VEVENT
DTSTAMP;TZID=Asia/Hong_Kong:20260425T225905
DTSTART;TZID=Asia/Hong_Kong:20180223T100000
DTEND;TZID=Asia/Hong_Kong:20180223T130000
LOCATION:Room 1504 (Lifts 25 & 26), 1/F Academic Building, HKUST
SUMMARY:PhD in Electronic and Computer Engineering - A Novel Si-GaN Monolithic Integration Technology for Power Devices in Cascode Configurations
UID:24850
END:VEVENT
END:VCALENDAR