BEGIN:VCALENDAR
PRODID:-//HKUST Drupal Platform//EN
VERSION:2.0
BEGIN:VTIMEZONE
TZID:Asia/Hong_Kong
BEGIN:STANDARD
DTSTART:20071104T020000
TZOFFSETFROM:+0700
TZOFFSETTO:+0800
TZNAME:HKT
END:STANDARD
END:VTIMEZONE
BEGIN:VEVENT
DTSTAMP;TZID=Asia/Hong_Kong:20260426T095403
DTSTART;TZID=Asia/Hong_Kong:20180223T150000
DTEND;TZID=Asia/Hong_Kong:20180223T180000
LOCATION:Room 2408 (Lifts 17-18), 2/F Academic Building, HKUST
SUMMARY:PhD in Computer Science & Engg - Sketch and Animation Assistants for Novices
UID:24847
END:VEVENT
END:VCALENDAR