BEGIN:VCALENDAR
PRODID:-//HKUST Drupal Platform//EN
VERSION:2.0
BEGIN:VTIMEZONE
TZID:Asia/Hong_Kong
BEGIN:STANDARD
DTSTART:20071104T020000
TZOFFSETFROM:+0700
TZOFFSETTO:+0800
TZNAME:HKT
END:STANDARD
END:VTIMEZONE
BEGIN:VEVENT
DTSTAMP;TZID=Asia/Hong_Kong:20260426T095403
DTSTART;TZID=Asia/Hong_Kong:20180427T093000
DTEND;TZID=Asia/Hong_Kong:20180427T123000
LOCATION:Rm 4472 (Lifts 25-26), 4/F Academic Building, HKUST
SUMMARY:PhD in Life Science - Phosphorus and Carbon Metabolism Genes in Cyanophages Infecting the Cyanobacterium Prochlorococcus
UID:24685
END:VEVENT
END:VCALENDAR