BEGIN:VCALENDAR
PRODID:-//HKUST Drupal Platform//EN
VERSION:2.0
BEGIN:VTIMEZONE
TZID:Asia/Hong_Kong
BEGIN:STANDARD
DTSTART:20071104T020000
TZOFFSETFROM:+0700
TZOFFSETTO:+0800
TZNAME:HKT
END:STANDARD
END:VTIMEZONE
BEGIN:VEVENT
DTSTAMP;TZID=Asia/Hong_Kong:20260426T001001
DTSTART;TZID=Asia/Hong_Kong:20180427T150000
DTEND;TZID=Asia/Hong_Kong:20180427T180000
LOCATION:Room 3494 (lifts 25-26), 3/F Academic Building, HKUST
SUMMARY:PhD in Computer Science & Engg - Flow Scheduling for Parallel Computing Applications in Datacenters
UID:24678
END:VEVENT
END:VCALENDAR