BEGIN:VCALENDAR
PRODID:-//HKUST Drupal Platform//EN
VERSION:2.0
BEGIN:VTIMEZONE
TZID:Asia/Hong_Kong
BEGIN:STANDARD
DTSTART:20071104T020000
TZOFFSETFROM:+0700
TZOFFSETTO:+0800
TZNAME:HKT
END:STANDARD
END:VTIMEZONE
BEGIN:VEVENT
DTSTAMP;TZID=Asia/Hong_Kong:20260420T152249
DTSTART;TZID=Asia/Hong_Kong:20181121T130000
DTEND;TZID=Asia/Hong_Kong:20181121T170000
LOCATION:Tsang Shiu Tim Art Hall
SUMMARY:Photography Exhibition \"Girl．Improvise 當下．女孩\" by Terence Pang
UID:23844
END:VEVENT
BEGIN:VEVENT
DTSTAMP;TZID=Asia/Hong_Kong:20260420T152249
DTSTART;TZID=Asia/Hong_Kong:20181122T130000
DTEND;TZID=Asia/Hong_Kong:20181122T170000
LOCATION:Tsang Shiu Tim Art Hall
SUMMARY:Photography Exhibition \"Girl．Improvise 當下．女孩\" by Terence Pang
UID:23844
END:VEVENT
BEGIN:VEVENT
DTSTAMP;TZID=Asia/Hong_Kong:20260420T152249
DTSTART;TZID=Asia/Hong_Kong:20181123T130000
DTEND;TZID=Asia/Hong_Kong:20181123T170000
LOCATION:Tsang Shiu Tim Art Hall
SUMMARY:Photography Exhibition \"Girl．Improvise 當下．女孩\" by Terence Pang
UID:23844
END:VEVENT
BEGIN:VEVENT
DTSTAMP;TZID=Asia/Hong_Kong:20260420T152249
DTSTART;TZID=Asia/Hong_Kong:20181124T130000
DTEND;TZID=Asia/Hong_Kong:20181124T170000
LOCATION:Tsang Shiu Tim Art Hall
SUMMARY:Photography Exhibition \"Girl．Improvise 當下．女孩\" by Terence Pang
UID:23844
END:VEVENT
BEGIN:VEVENT
DTSTAMP;TZID=Asia/Hong_Kong:20260420T152249
DTSTART;TZID=Asia/Hong_Kong:20181125T130000
DTEND;TZID=Asia/Hong_Kong:20181125T170000
LOCATION:Tsang Shiu Tim Art Hall
SUMMARY:Photography Exhibition \"Girl．Improvise 當下．女孩\" by Terence Pang
UID:23844
END:VEVENT
BEGIN:VEVENT
DTSTAMP;TZID=Asia/Hong_Kong:20260420T152249
DTSTART;TZID=Asia/Hong_Kong:20181126T130000
DTEND;TZID=Asia/Hong_Kong:20181126T170000
LOCATION:Tsang Shiu Tim Art Hall
SUMMARY:Photography Exhibition \"Girl．Improvise 當下．女孩\" by Terence Pang
UID:23844
END:VEVENT
BEGIN:VEVENT
DTSTAMP;TZID=Asia/Hong_Kong:20260420T152249
DTSTART;TZID=Asia/Hong_Kong:20181127T130000
DTEND;TZID=Asia/Hong_Kong:20181127T170000
LOCATION:Tsang Shiu Tim Art Hall
SUMMARY:Photography Exhibition \"Girl．Improvise 當下．女孩\" by Terence Pang
UID:23844
END:VEVENT
BEGIN:VEVENT
DTSTAMP;TZID=Asia/Hong_Kong:20260420T152249
DTSTART;TZID=Asia/Hong_Kong:20181128T130000
DTEND;TZID=Asia/Hong_Kong:20181128T170000
LOCATION:Tsang Shiu Tim Art Hall
SUMMARY:Photography Exhibition \"Girl．Improvise 當下．女孩\" by Terence Pang
UID:23844
END:VEVENT
BEGIN:VEVENT
DTSTAMP;TZID=Asia/Hong_Kong:20260420T152249
DTSTART;TZID=Asia/Hong_Kong:20181129T130000
DTEND;TZID=Asia/Hong_Kong:20181129T170000
LOCATION:Tsang Shiu Tim Art Hall
SUMMARY:Photography Exhibition \"Girl．Improvise 當下．女孩\" by Terence Pang
UID:23844
END:VEVENT
BEGIN:VEVENT
DTSTAMP;TZID=Asia/Hong_Kong:20260420T152249
DTSTART;TZID=Asia/Hong_Kong:20181130T130000
DTEND;TZID=Asia/Hong_Kong:20181130T170000
LOCATION:Tsang Shiu Tim Art Hall
SUMMARY:Photography Exhibition \"Girl．Improvise 當下．女孩\" by Terence Pang
UID:23844
END:VEVENT
BEGIN:VEVENT
DTSTAMP;TZID=Asia/Hong_Kong:20260420T152249
DTSTART;TZID=Asia/Hong_Kong:20181201T130000
DTEND;TZID=Asia/Hong_Kong:20181201T170000
LOCATION:Tsang Shiu Tim Art Hall
SUMMARY:Photography Exhibition \"Girl．Improvise 當下．女孩\" by Terence Pang
UID:23844
END:VEVENT
BEGIN:VEVENT
DTSTAMP;TZID=Asia/Hong_Kong:20260420T152249
DTSTART;TZID=Asia/Hong_Kong:20181202T130000
DTEND;TZID=Asia/Hong_Kong:20181202T170000
LOCATION:Tsang Shiu Tim Art Hall
SUMMARY:Photography Exhibition \"Girl．Improvise 當下．女孩\" by Terence Pang
UID:23844
END:VEVENT
END:VCALENDAR