BEGIN:VCALENDAR
PRODID:-//HKUST Drupal Platform//EN
VERSION:2.0
BEGIN:VTIMEZONE
TZID:Asia/Hong_Kong
BEGIN:STANDARD
DTSTART:20071104T020000
TZOFFSETFROM:+0700
TZOFFSETTO:+0800
TZNAME:HKT
END:STANDARD
END:VTIMEZONE
BEGIN:VEVENT
DTSTAMP;TZID=Asia/Hong_Kong:20260420T180904
DTSTART;TZID=Asia/Hong_Kong:20190509T123000
DTEND;TZID=Asia/Hong_Kong:20190509T133000
LOCATION:Chen Kuan Cheng Forum Lecture Theatre H (LT-H)
SUMMARY:National Geographic Grants Seminar 9 May
UID:23288
END:VEVENT
END:VCALENDAR