BEGIN:VCALENDAR
PRODID:-//HKUST Drupal Platform//EN
VERSION:2.0
BEGIN:VTIMEZONE
TZID:Asia/Hong_Kong
BEGIN:STANDARD
DTSTART:20071104T020000
TZOFFSETFROM:+0700
TZOFFSETTO:+0800
TZNAME:HKT
END:STANDARD
END:VTIMEZONE
BEGIN:VEVENT
DTSTAMP;TZID=Asia/Hong_Kong:20260420T180907
DTSTART;TZID=Asia/Hong_Kong:20190510T093000
DTEND;TZID=Asia/Hong_Kong:20190510T121500
LOCATION:Council Chamber, 7/F (Lift 13-15)
SUMMARY:SSC Pitch Day
UID:23283
END:VEVENT
END:VCALENDAR