BEGIN:VCALENDAR
PRODID:-//HKUST Drupal Platform//EN
VERSION:2.0
BEGIN:VTIMEZONE
TZID:Asia/Hong_Kong
BEGIN:STANDARD
DTSTART:20071104T020000
TZOFFSETFROM:+0700
TZOFFSETTO:+0800
TZNAME:HKT
END:STANDARD
END:VTIMEZONE
BEGIN:VEVENT
DTSTAMP;TZID=Asia/Hong_Kong:20260420T180906
DTSTART;TZID=Asia/Hong_Kong:20190618T143000
DTEND;TZID=Asia/Hong_Kong:20190618T153000
LOCATION:Room 2463, 2/F (Lifts 25/26), Academic Building, HKUST
SUMMARY:CHEM Seminar - Using the Concepts of Solid-state Chemistry to Develop New Quantum Materials
UID:23127
END:VEVENT
END:VCALENDAR