BEGIN:VCALENDAR
PRODID:-//HKUST Drupal Platform//EN
VERSION:2.0
BEGIN:VTIMEZONE
TZID:Asia/Hong_Kong
BEGIN:STANDARD
DTSTART:20071104T020000
TZOFFSETFROM:+0700
TZOFFSETTO:+0800
TZNAME:HKT
END:STANDARD
END:VTIMEZONE
BEGIN:VEVENT
DTSTAMP;TZID=Asia/Hong_Kong:20260420T221927
DTSTART;TZID=Asia/Hong_Kong:20190620T143000
DTEND;TZID=Asia/Hong_Kong:20190620T153000
LOCATION:Room 2405, 2/F (Lifts 17/18), Academic Building, HKUST
SUMMARY:CHEM Seminar - An Editor\'s Insight into Publishing in Nature Journals
UID:23123
END:VEVENT
END:VCALENDAR