BEGIN:VCALENDAR
PRODID:-//HKUST Drupal Platform//EN
VERSION:2.0
BEGIN:VTIMEZONE
TZID:Asia/Hong_Kong
BEGIN:STANDARD
DTSTART:20071104T020000
TZOFFSETFROM:+0700
TZOFFSETTO:+0800
TZNAME:HKT
END:STANDARD
END:VTIMEZONE
BEGIN:VEVENT
DTSTAMP;TZID=Asia/Hong_Kong:20260420T193935
DTSTART;TZID=Asia/Hong_Kong:20190703T103000
DTEND;TZID=Asia/Hong_Kong:20190703T120000
LOCATION:Room 4502, 4/F (Lifts 25/26), Academic Building, HKUST
SUMMARY:CHEM Seminar - Charge Transfer Complex, Thermally Activated Delayed Fluorescence and Aggregation Induced Emission
UID:23006
END:VEVENT
END:VCALENDAR