BEGIN:VCALENDAR
PRODID:-//HKUST Drupal Platform//EN
VERSION:2.0
BEGIN:VTIMEZONE
TZID:Asia/Hong_Kong
BEGIN:STANDARD
DTSTART:20071104T020000
TZOFFSETFROM:+0700
TZOFFSETTO:+0800
TZNAME:HKT
END:STANDARD
END:VTIMEZONE
BEGIN:VEVENT
DTSTAMP;TZID=Asia/Hong_Kong:20260420T142914
DTSTART;TZID=Asia/Hong_Kong:20190709T110000
DTEND;TZID=Asia/Hong_Kong:20190709T123000
LOCATION:Room 2503 (Lifts 25-26),
SUMMARY:ISD Seminar: Towards a New Generation of Nature-Inspired Aerial Crafts
UID:22957
END:VEVENT
END:VCALENDAR