BEGIN:VCALENDAR
PRODID:-//HKUST Drupal Platform//EN
VERSION:2.0
BEGIN:VTIMEZONE
TZID:Asia/Hong_Kong
BEGIN:STANDARD
DTSTART:20071104T020000
TZOFFSETFROM:+0700
TZOFFSETTO:+0800
TZNAME:HKT
END:STANDARD
END:VTIMEZONE
BEGIN:VEVENT
DTSTAMP;TZID=Asia/Hong_Kong:20260420T233555
DTSTART;TZID=Asia/Hong_Kong:20190920T103000
DTEND;TZID=Asia/Hong_Kong:20190920T120000
LOCATION:Room 4334, 4/F (Lift 3), Academic Building, HKUST
SUMMARY:CHEM Seminar - Phosphoric Acid-Catalyzed, Enantioselective Transformations of H-Bonded ortho-Quinone Methides and ortho-Quinone Methide Imines
UID:22484
END:VEVENT
END:VCALENDAR