BEGIN:VCALENDAR
PRODID:-//HKUST Drupal Platform//EN
VERSION:2.0
BEGIN:VTIMEZONE
TZID:Asia/Hong_Kong
BEGIN:STANDARD
DTSTART:20071104T020000
TZOFFSETFROM:+0700
TZOFFSETTO:+0800
TZNAME:HKT
END:STANDARD
END:VTIMEZONE
BEGIN:VEVENT
DTSTAMP;TZID=Asia/Hong_Kong:20260420T210614
DTSTART;TZID=Asia/Hong_Kong:20190916T143000
DTEND;TZID=Asia/Hong_Kong:20190916T160000
LOCATION:Room 2303, 2/F (Lifts 17/18), Academic Building, HKUST
SUMMARY:CHEM Seminar - Break-it-to-Make-it Strategies for Complex Molecule Synthesis
UID:22483
END:VEVENT
END:VCALENDAR