BEGIN:VCALENDAR
PRODID:-//HKUST Drupal Platform//EN
VERSION:2.0
BEGIN:VTIMEZONE
TZID:Asia/Hong_Kong
BEGIN:STANDARD
DTSTART:20071104T020000
TZOFFSETFROM:+0700
TZOFFSETTO:+0800
TZNAME:HKT
END:STANDARD
END:VTIMEZONE
BEGIN:VEVENT
DTSTAMP;TZID=Asia/Hong_Kong:20260420T210559
DTSTART;TZID=Asia/Hong_Kong:20191028T150000
DTEND;TZID=Asia/Hong_Kong:20191028T170000
LOCATION:Room 5564, 5/F (Lifts 27/28), Academic Building, HKUST
SUMMARY:CHEM Seminar - How to Publish in High Quality Journals?
UID:22165
END:VEVENT
END:VCALENDAR