BEGIN:VCALENDAR
PRODID:-//HKUST Drupal Platform//EN
VERSION:2.0
BEGIN:VTIMEZONE
TZID:Asia/Hong_Kong
BEGIN:STANDARD
DTSTART:20071104T020000
TZOFFSETFROM:+0700
TZOFFSETTO:+0800
TZNAME:HKT
END:STANDARD
END:VTIMEZONE
BEGIN:VEVENT
DTSTAMP;TZID=Asia/Hong_Kong:20260420T233451
DTSTART;TZID=Asia/Hong_Kong:20191129T103000
DTEND;TZID=Asia/Hong_Kong:20191129T120000
LOCATION:Room 2303, 2/F (Lifts 17/18), Academic Building, HKUST
SUMMARY:CHEM Seminar - Intrinsic Energy Conversion Mechanism for Photo-Generation in Piezo-Phototronic Materials:  A Case Study in LiNbO3
UID:22017
END:VEVENT
END:VCALENDAR