BEGIN:VCALENDAR
PRODID:-//HKUST Drupal Platform//EN
VERSION:2.0
BEGIN:VTIMEZONE
TZID:Asia/Hong_Kong
BEGIN:STANDARD
DTSTART:20071104T020000
TZOFFSETFROM:+0700
TZOFFSETTO:+0800
TZNAME:HKT
END:STANDARD
END:VTIMEZONE
BEGIN:VEVENT
DTSTAMP;TZID=Asia/Hong_Kong:20260420T180822
DTSTART;TZID=Asia/Hong_Kong:20200104T154500
DTEND;TZID=Asia/Hong_Kong:20200104T170000
LOCATION:Yau Ma Tei Theatre, 6 Waterloo Road, Yau Ma Tei
SUMMARY:免費門票 - 「反串再反串！？」──《花田八喜》之〈亭會〉（2020年1月4/5日）
UID:21947
END:VEVENT
BEGIN:VEVENT
DTSTAMP;TZID=Asia/Hong_Kong:20260420T180822
DTSTART;TZID=Asia/Hong_Kong:20200105T154500
DTEND;TZID=Asia/Hong_Kong:20200105T170000
LOCATION:Yau Ma Tei Theatre, 6 Waterloo Road, Yau Ma Tei
SUMMARY:免費門票 - 「反串再反串！？」──《花田八喜》之〈亭會〉（2020年1月4/5日）
UID:21947
END:VEVENT
END:VCALENDAR