BEGIN:VCALENDAR
PRODID:-//HKUST Drupal Platform//EN
VERSION:2.0
BEGIN:VTIMEZONE
TZID:Asia/Hong_Kong
BEGIN:STANDARD
DTSTART:20071104T020000
TZOFFSETFROM:+0700
TZOFFSETTO:+0800
TZNAME:HKT
END:STANDARD
END:VTIMEZONE
BEGIN:VEVENT
DTSTAMP;TZID=Asia/Hong_Kong:20260420T193957
DTSTART;TZID=Asia/Hong_Kong:20200326T163000
DTEND;TZID=Asia/Hong_Kong:20200326T173000
LOCATION:Zoom direct link: http://hkust.zoom.us/j/6111980629
SUMMARY:CHEM - PhD Student Seminar - Halide Perovskite-based Resistive Random Access Memory (ReRAM) and Artifical Synapses
UID:21797
END:VEVENT
END:VCALENDAR