BEGIN:VCALENDAR
PRODID:-//HKUST Drupal Platform//EN
VERSION:2.0
BEGIN:VTIMEZONE
TZID:Asia/Hong_Kong
BEGIN:STANDARD
DTSTART:20071104T020000
TZOFFSETFROM:+0700
TZOFFSETTO:+0800
TZNAME:HKT
END:STANDARD
END:VTIMEZONE
BEGIN:VEVENT
DTSTAMP;TZID=Asia/Hong_Kong:20260420T221955
DTSTART;TZID=Asia/Hong_Kong:20200603T153000
DTEND;TZID=Asia/Hong_Kong:20200603T163000
LOCATION:Online
SUMMARY:CHEM - PhD Student Seminar - Organic Photodiodes Toward Near-Infrared Detection: Materials, Devices, and Applications
UID:21622
END:VEVENT
END:VCALENDAR