BEGIN:VCALENDAR
PRODID:-//HKUST Drupal Platform//EN
VERSION:2.0
BEGIN:VTIMEZONE
TZID:Asia/Hong_Kong
BEGIN:STANDARD
DTSTART:20071104T020000
TZOFFSETFROM:+0700
TZOFFSETTO:+0800
TZNAME:HKT
END:STANDARD
END:VTIMEZONE
BEGIN:VEVENT
DTSTAMP;TZID=Asia/Hong_Kong:20260420T194001
DTSTART;TZID=Asia/Hong_Kong:20200810T143000
DTEND;TZID=Asia/Hong_Kong:20200810T163000
LOCATION:Online
SUMMARY:PhD in Chemistry - Composition and Interface Engineering for Efficient and Stable Inverted Perovskite Solar Cell
UID:21332
END:VEVENT
END:VCALENDAR