BEGIN:VCALENDAR
PRODID:-//HKUST Drupal Platform//EN
VERSION:2.0
BEGIN:VTIMEZONE
TZID:Asia/Hong_Kong
BEGIN:STANDARD
DTSTART:20071104T020000
TZOFFSETFROM:+0700
TZOFFSETTO:+0800
TZNAME:HKT
END:STANDARD
END:VTIMEZONE
BEGIN:VEVENT
DTSTAMP;TZID=Asia/Hong_Kong:20260420T195429
DTSTART;TZID=Asia/Hong_Kong:20200813T144500
DTEND;TZID=Asia/Hong_Kong:20200813T164500
LOCATION:Online
SUMMARY:PhD in Chemistry - Inkjet Printing of Organic-Inorganic Halide Perovskite Materials for Photovoltaic Applications
UID:21321
END:VEVENT
END:VCALENDAR