BEGIN:VCALENDAR
PRODID:-//HKUST Drupal Platform//EN
VERSION:2.0
BEGIN:VTIMEZONE
TZID:Asia/Hong_Kong
BEGIN:STANDARD
DTSTART:20071104T020000
TZOFFSETFROM:+0700
TZOFFSETTO:+0800
TZNAME:HKT
END:STANDARD
END:VTIMEZONE
BEGIN:VEVENT
DTSTAMP;TZID=Asia/Hong_Kong:20260420T194000
DTSTART;TZID=Asia/Hong_Kong:20200821T140000
DTEND;TZID=Asia/Hong_Kong:20200821T160000
LOCATION:Online
SUMMARY:PhD in Chemistry - Iridium Complexes with Oxygen Donor and Cyclometalated Ligands
UID:21305
END:VEVENT
END:VCALENDAR