BEGIN:VCALENDAR
PRODID:-//HKUST Drupal Platform//EN
VERSION:2.0
BEGIN:VTIMEZONE
TZID:Asia/Hong_Kong
BEGIN:STANDARD
DTSTART:20071104T020000
TZOFFSETFROM:+0700
TZOFFSETTO:+0800
TZNAME:HKT
END:STANDARD
END:VTIMEZONE
BEGIN:VEVENT
DTSTAMP;TZID=Asia/Hong_Kong:20260420T190946
DTSTART;TZID=Asia/Hong_Kong:20180412T193000
DTEND;TZID=Asia/Hong_Kong:20180412T213000
LOCATION:Multi-purpose Hall, UG Hall VII
SUMMARY:Creative Affinity Russian Doll Painting Art and Party
UID:14639
END:VEVENT
END:VCALENDAR