BEGIN:VCALENDAR
PRODID:-//HKUST Drupal Platform//EN
VERSION:2.0
BEGIN:VTIMEZONE
TZID:Asia/Hong_Kong
BEGIN:STANDARD
DTSTART:20071104T020000
TZOFFSETFROM:+0700
TZOFFSETTO:+0800
TZNAME:HKT
END:STANDARD
END:VTIMEZONE
BEGIN:VEVENT
DTSTAMP;TZID=Asia/Hong_Kong:20260420T220946
DTSTART;TZID=Asia/Hong_Kong:20180410T140000
DTEND;TZID=Asia/Hong_Kong:19700101T080000
LOCATION:MPH, JCH
SUMMARY:Natural Perfume Workshop
UID:14528
END:VEVENT
END:VCALENDAR