BEGIN:VCALENDAR
PRODID:-//HKUST Drupal Platform//EN
VERSION:2.0
BEGIN:VTIMEZONE
TZID:Asia/Hong_Kong
BEGIN:STANDARD
DTSTART:20071104T020000
TZOFFSETFROM:+0700
TZOFFSETTO:+0800
TZNAME:HKT
END:STANDARD
END:VTIMEZONE
BEGIN:VEVENT
DTSTAMP;TZID=Asia/Hong_Kong:20260426T041025
DTSTART;TZID=Asia/Hong_Kong:20260428T103000
DTEND;TZID=Asia/Hong_Kong:20260428T120000
LOCATION:Room1410, Room1410 (Lift 25-26), Academic Building, HKUST
SUMMARY:Gender and the Social Perception of Creaky Voice in Mandarin
UID:47027
END:VEVENT
END:VCALENDAR