BEGIN:VCALENDAR
PRODID:-//HKUST Drupal Platform//EN
VERSION:2.0
BEGIN:VTIMEZONE
TZID:Asia/Hong_Kong
BEGIN:STANDARD
DTSTART:20071104T020000
TZOFFSETFROM:+0700
TZOFFSETTO:+0800
TZNAME:HKT
END:STANDARD
END:VTIMEZONE
BEGIN:VEVENT
DTSTAMP;TZID=Asia/Hong_Kong:20260420T142420
DTSTART;TZID=Asia/Hong_Kong:20260521T143000
DTEND;TZID=Asia/Hong_Kong:20260521T173000
LOCATION:Room 4475 (lifts 25-26), 4/F Academic Building, HKUST
SUMMARY:PHD in Marine Environmental Sci - Dissolved Organic Nitrogen Cycling in Marine Environments: From Molecular Fingerprints to Thermodynamic Stability
UID:46985
END:VEVENT
END:VCALENDAR