BEGIN:VCALENDAR
PRODID:-//HKUST Drupal Platform//EN
VERSION:2.0
BEGIN:VTIMEZONE
TZID:Asia/Hong_Kong
BEGIN:STANDARD
DTSTART:20071104T020000
TZOFFSETFROM:+0700
TZOFFSETTO:+0800
TZNAME:HKT
END:STANDARD
END:VTIMEZONE
BEGIN:VEVENT
DTSTAMP;TZID=Asia/Hong_Kong:20260420T220945
DTSTART;TZID=Asia/Hong_Kong:20260518T150000
DTEND;TZID=Asia/Hong_Kong:20260518T180000
LOCATION: , HKUST
SUMMARY:PHD in Marine Environmental Sci - Genomic Foundations and Experimental Insights into Holobiont Adaptation in the Deep-Sea Mussel Gigantidas haimaensis
UID:46963
END:VEVENT
END:VCALENDAR