BEGIN:VCALENDAR
PRODID:-//HKUST Drupal Platform//EN
VERSION:2.0
BEGIN:VTIMEZONE
TZID:Asia/Hong_Kong
BEGIN:STANDARD
DTSTART:20071104T020000
TZOFFSETFROM:+0700
TZOFFSETTO:+0800
TZNAME:HKT
END:STANDARD
END:VTIMEZONE
BEGIN:VEVENT
DTSTAMP;TZID=Asia/Hong_Kong:20260420T184234
DTSTART;TZID=Asia/Hong_Kong:20260422T000000
DTEND;TZID=Asia/Hong_Kong:20260424T235900
LOCATION:Shaw Auditorium and IAS Lobby at HKUST, Cloud 39 at The Henderson
SUMMARY:THE ASIA UNIVERSITIES SUMMIT 2026
UID:46920
END:VEVENT
END:VCALENDAR