BEGIN:VCALENDAR
PRODID:-//HKUST Drupal Platform//EN
VERSION:2.0
BEGIN:VTIMEZONE
TZID:Asia/Hong_Kong
BEGIN:STANDARD
DTSTART:20071104T020000
TZOFFSETFROM:+0700
TZOFFSETTO:+0800
TZNAME:HKT
END:STANDARD
END:VTIMEZONE
BEGIN:VEVENT
DTSTAMP;TZID=Asia/Hong_Kong:20260422T093816
DTSTART;TZID=Asia/Hong_Kong:20260326T000000
DTEND;TZID=Asia/Hong_Kong:20261231T235900
LOCATION:2/F, Hong Kong Museum of History, 100 Chatham Road South, Tsim Sha Tsui, Kowloon, Hong Kong
SUMMARY:National Security Exhibition Gallery
UID:46836
END:VEVENT
END:VCALENDAR