BEGIN:VCALENDAR
PRODID:-//HKUST Drupal Platform//EN
VERSION:2.0
BEGIN:VTIMEZONE
TZID:Asia/Hong_Kong
BEGIN:STANDARD
DTSTART:20071104T020000
TZOFFSETFROM:+0700
TZOFFSETTO:+0800
TZNAME:HKT
END:STANDARD
END:VTIMEZONE
BEGIN:VEVENT
DTSTAMP;TZID=Asia/Hong_Kong:20260420T132857
DTSTART;TZID=Asia/Hong_Kong:20260226T131500
DTEND;TZID=Asia/Hong_Kong:20260226T140000
LOCATION:Lobby (G/F) inside Manulife Financial Centre (MFC)
SUMMARY:Walking Club Event @ MFC - 26 Feb
UID:46539
END:VEVENT
END:VCALENDAR