BEGIN:VCALENDAR
PRODID:-//HKUST Drupal Platform//EN
VERSION:2.0
BEGIN:VTIMEZONE
TZID:Asia/Hong_Kong
BEGIN:STANDARD
DTSTART:20071104T020000
TZOFFSETFROM:+0700
TZOFFSETTO:+0800
TZNAME:HKT
END:STANDARD
END:VTIMEZONE
BEGIN:VEVENT
DTSTAMP;TZID=Asia/Hong_Kong:20260420T180835
DTSTART;TZID=Asia/Hong_Kong:20260423T143000
DTEND;TZID=Asia/Hong_Kong:20260423T160000
LOCATION:Room 5003, Counseling and Wellness Centre (via Lift 3)
SUMMARY:困局裡的選擇：   從《鬼滅之刃》看人生 Choices in a Dilemma: Exploring Life Through \'Demon Slayer: Kimetsu no Yaiba\'
UID:46298
END:VEVENT
END:VCALENDAR