BEGIN:VCALENDAR
PRODID:-//HKUST Drupal Platform//EN
VERSION:2.0
BEGIN:VTIMEZONE
TZID:Asia/Hong_Kong
BEGIN:STANDARD
DTSTART:20071104T020000
TZOFFSETFROM:+0700
TZOFFSETTO:+0800
TZNAME:HKT
END:STANDARD
END:VTIMEZONE
BEGIN:VEVENT
DTSTAMP;TZID=Asia/Hong_Kong:20260420T142916
DTSTART;TZID=Asia/Hong_Kong:20260129T140000
DTEND;TZID=Asia/Hong_Kong:20260129T170000
LOCATION: , HKUST
SUMMARY:PHD in Individual Interdisci Prog - On the consumption of nitrous oxide across the land-estuary continuum
UID:46260
END:VEVENT
END:VCALENDAR