BEGIN:VCALENDAR
PRODID:-//HKUST Drupal Platform//EN
VERSION:2.0
BEGIN:VTIMEZONE
TZID:Asia/Hong_Kong
BEGIN:STANDARD
DTSTART:20071104T020000
TZOFFSETFROM:+0700
TZOFFSETTO:+0800
TZNAME:HKT
END:STANDARD
END:VTIMEZONE
BEGIN:VEVENT
DTSTAMP;TZID=Asia/Hong_Kong:20260423T210310
DTSTART;TZID=Asia/Hong_Kong:20260712T090000
DTEND;TZID=Asia/Hong_Kong:20260712T180000
LOCATION:Kaisa Group Lecture Theater (IAS LT), Lo Ka Chung Building, Lee Shau Kee Campus, HKUST
SUMMARY:IAS Conference - Graphs and Groups, Tessellations and Transformations (G2T2)
UID:46229
END:VEVENT
BEGIN:VEVENT
DTSTAMP;TZID=Asia/Hong_Kong:20260423T210310
DTSTART;TZID=Asia/Hong_Kong:20260713T090000
DTEND;TZID=Asia/Hong_Kong:20260713T180000
LOCATION:Kaisa Group Lecture Theater (IAS LT), Lo Ka Chung Building, Lee Shau Kee Campus, HKUST
SUMMARY:IAS Conference - Graphs and Groups, Tessellations and Transformations (G2T2)
UID:46229
END:VEVENT
BEGIN:VEVENT
DTSTAMP;TZID=Asia/Hong_Kong:20260423T210310
DTSTART;TZID=Asia/Hong_Kong:20260714T090000
DTEND;TZID=Asia/Hong_Kong:20260714T180000
LOCATION:Kaisa Group Lecture Theater (IAS LT), Lo Ka Chung Building, Lee Shau Kee Campus, HKUST
SUMMARY:IAS Conference - Graphs and Groups, Tessellations and Transformations (G2T2)
UID:46229
END:VEVENT
BEGIN:VEVENT
DTSTAMP;TZID=Asia/Hong_Kong:20260423T210310
DTSTART;TZID=Asia/Hong_Kong:20260715T090000
DTEND;TZID=Asia/Hong_Kong:20260715T180000
LOCATION:Kaisa Group Lecture Theater (IAS LT), Lo Ka Chung Building, Lee Shau Kee Campus, HKUST
SUMMARY:IAS Conference - Graphs and Groups, Tessellations and Transformations (G2T2)
UID:46229
END:VEVENT
BEGIN:VEVENT
DTSTAMP;TZID=Asia/Hong_Kong:20260423T210310
DTSTART;TZID=Asia/Hong_Kong:20260716T090000
DTEND;TZID=Asia/Hong_Kong:20260716T180000
LOCATION:Kaisa Group Lecture Theater (IAS LT), Lo Ka Chung Building, Lee Shau Kee Campus, HKUST
SUMMARY:IAS Conference - Graphs and Groups, Tessellations and Transformations (G2T2)
UID:46229
END:VEVENT
BEGIN:VEVENT
DTSTAMP;TZID=Asia/Hong_Kong:20260423T210310
DTSTART;TZID=Asia/Hong_Kong:20260717T090000
DTEND;TZID=Asia/Hong_Kong:20260717T180000
LOCATION:Kaisa Group Lecture Theater (IAS LT), Lo Ka Chung Building, Lee Shau Kee Campus, HKUST
SUMMARY:IAS Conference - Graphs and Groups, Tessellations and Transformations (G2T2)
UID:46229
END:VEVENT
BEGIN:VEVENT
DTSTAMP;TZID=Asia/Hong_Kong:20260423T210310
DTSTART;TZID=Asia/Hong_Kong:20260718T090000
DTEND;TZID=Asia/Hong_Kong:20260718T180000
LOCATION:Kaisa Group Lecture Theater (IAS LT), Lo Ka Chung Building, Lee Shau Kee Campus, HKUST
SUMMARY:IAS Conference - Graphs and Groups, Tessellations and Transformations (G2T2)
UID:46229
END:VEVENT
BEGIN:VEVENT
DTSTAMP;TZID=Asia/Hong_Kong:20260423T210310
DTSTART;TZID=Asia/Hong_Kong:20260719T090000
DTEND;TZID=Asia/Hong_Kong:20260719T180000
LOCATION:Kaisa Group Lecture Theater (IAS LT), Lo Ka Chung Building, Lee Shau Kee Campus, HKUST
SUMMARY:IAS Conference - Graphs and Groups, Tessellations and Transformations (G2T2)
UID:46229
END:VEVENT
BEGIN:VEVENT
DTSTAMP;TZID=Asia/Hong_Kong:20260423T210310
DTSTART;TZID=Asia/Hong_Kong:20260720T090000
DTEND;TZID=Asia/Hong_Kong:20260720T180000
LOCATION:Kaisa Group Lecture Theater (IAS LT), Lo Ka Chung Building, Lee Shau Kee Campus, HKUST
SUMMARY:IAS Conference - Graphs and Groups, Tessellations and Transformations (G2T2)
UID:46229
END:VEVENT
BEGIN:VEVENT
DTSTAMP;TZID=Asia/Hong_Kong:20260423T210310
DTSTART;TZID=Asia/Hong_Kong:20260721T090000
DTEND;TZID=Asia/Hong_Kong:20260721T180000
LOCATION:Kaisa Group Lecture Theater (IAS LT), Lo Ka Chung Building, Lee Shau Kee Campus, HKUST
SUMMARY:IAS Conference - Graphs and Groups, Tessellations and Transformations (G2T2)
UID:46229
END:VEVENT
BEGIN:VEVENT
DTSTAMP;TZID=Asia/Hong_Kong:20260423T210310
DTSTART;TZID=Asia/Hong_Kong:20260722T090000
DTEND;TZID=Asia/Hong_Kong:20260722T180000
LOCATION:Kaisa Group Lecture Theater (IAS LT), Lo Ka Chung Building, Lee Shau Kee Campus, HKUST
SUMMARY:IAS Conference - Graphs and Groups, Tessellations and Transformations (G2T2)
UID:46229
END:VEVENT
BEGIN:VEVENT
DTSTAMP;TZID=Asia/Hong_Kong:20260423T210310
DTSTART;TZID=Asia/Hong_Kong:20260723T090000
DTEND;TZID=Asia/Hong_Kong:20260723T180000
LOCATION:Kaisa Group Lecture Theater (IAS LT), Lo Ka Chung Building, Lee Shau Kee Campus, HKUST
SUMMARY:IAS Conference - Graphs and Groups, Tessellations and Transformations (G2T2)
UID:46229
END:VEVENT
BEGIN:VEVENT
DTSTAMP;TZID=Asia/Hong_Kong:20260423T210310
DTSTART;TZID=Asia/Hong_Kong:20260724T090000
DTEND;TZID=Asia/Hong_Kong:20260724T180000
LOCATION:Kaisa Group Lecture Theater (IAS LT), Lo Ka Chung Building, Lee Shau Kee Campus, HKUST
SUMMARY:IAS Conference - Graphs and Groups, Tessellations and Transformations (G2T2)
UID:46229
END:VEVENT
BEGIN:VEVENT
DTSTAMP;TZID=Asia/Hong_Kong:20260423T210310
DTSTART;TZID=Asia/Hong_Kong:20260725T090000
DTEND;TZID=Asia/Hong_Kong:20260725T180000
LOCATION:Kaisa Group Lecture Theater (IAS LT), Lo Ka Chung Building, Lee Shau Kee Campus, HKUST
SUMMARY:IAS Conference - Graphs and Groups, Tessellations and Transformations (G2T2)
UID:46229
END:VEVENT
BEGIN:VEVENT
DTSTAMP;TZID=Asia/Hong_Kong:20260423T210310
DTSTART;TZID=Asia/Hong_Kong:20260726T090000
DTEND;TZID=Asia/Hong_Kong:20260726T180000
LOCATION:Kaisa Group Lecture Theater (IAS LT), Lo Ka Chung Building, Lee Shau Kee Campus, HKUST
SUMMARY:IAS Conference - Graphs and Groups, Tessellations and Transformations (G2T2)
UID:46229
END:VEVENT
END:VCALENDAR