BEGIN:VCALENDAR
PRODID:-//HKUST Drupal Platform//EN
VERSION:2.0
BEGIN:VTIMEZONE
TZID:Asia/Hong_Kong
BEGIN:STANDARD
DTSTART:20071104T020000
TZOFFSETFROM:+0700
TZOFFSETTO:+0800
TZNAME:HKT
END:STANDARD
END:VTIMEZONE
BEGIN:VEVENT
DTSTAMP;TZID=Asia/Hong_Kong:20260420T180825
DTSTART;TZID=Asia/Hong_Kong:20260120T090000
DTEND;TZID=Asia/Hong_Kong:20260120T120000
LOCATION:E3, 2F, 202, HKUST(GZ), HKUST
SUMMARY:PHD in Individual Interdisci Prog - Human-Centered Interactivity Reconstruction
UID:46139
END:VEVENT
END:VCALENDAR