BEGIN:VCALENDAR
PRODID:-//HKUST Drupal Platform//EN
VERSION:2.0
BEGIN:VTIMEZONE
TZID:Asia/Hong_Kong
BEGIN:STANDARD
DTSTART:20071104T020000
TZOFFSETFROM:+0700
TZOFFSETTO:+0800
TZNAME:HKT
END:STANDARD
END:VTIMEZONE
BEGIN:VEVENT
DTSTAMP;TZID=Asia/Hong_Kong:20260421T211941
DTSTART;TZID=Asia/Hong_Kong:20260122T110000
DTEND;TZID=Asia/Hong_Kong:20260122T140000
LOCATION:Room 4504 (Lifts 25-26), 4/F Academic Building, HKUST
SUMMARY:PHD in Life Science - Deep Mutational Scanning of SLC26A4 (Pendrin) Improves the Pathogenicity Interpretation of Hearing-loss Variants
UID:46122
END:VEVENT
END:VCALENDAR