BEGIN:VCALENDAR
PRODID:-//HKUST Drupal Platform//EN
VERSION:2.0
BEGIN:VTIMEZONE
TZID:Asia/Hong_Kong
BEGIN:STANDARD
DTSTART:20071104T020000
TZOFFSETFROM:+0700
TZOFFSETTO:+0800
TZNAME:HKT
END:STANDARD
END:VTIMEZONE
BEGIN:VEVENT
DTSTAMP;TZID=Asia/Hong_Kong:20260420T235101
DTSTART;TZID=Asia/Hong_Kong:20260114T140000
DTEND;TZID=Asia/Hong_Kong:20260114T170000
LOCATION:Room 5560 (Lifts 27-28), HKUST
SUMMARY:PHD in Bioengineering - Integrated Label-Free Proteomic and Genomic Analysis Reveals Laboratory Adaptive Co-Evolution and Bacterial Interactions in Tri-Species Microbial Communities
UID:46120
END:VEVENT
END:VCALENDAR