BEGIN:VCALENDAR
PRODID:-//HKUST Drupal Platform//EN
VERSION:2.0
BEGIN:VTIMEZONE
TZID:Asia/Hong_Kong
BEGIN:STANDARD
DTSTART:20071104T020000
TZOFFSETFROM:+0700
TZOFFSETTO:+0800
TZNAME:HKT
END:STANDARD
END:VTIMEZONE
BEGIN:VEVENT
DTSTAMP;TZID=Asia/Hong_Kong:20260420T152308
DTSTART;TZID=Asia/Hong_Kong:20260121T150000
DTEND;TZID=Asia/Hong_Kong:20260121T180000
LOCATION: , HKUST
SUMMARY:MPhil in Physics - Investigte the Effect of Myosin 10 Knock-Down On Local Traction Force of Breast Cancer Cell
UID:46109
END:VEVENT
END:VCALENDAR