BEGIN:VCALENDAR
PRODID:-//HKUST Drupal Platform//EN
VERSION:2.0
BEGIN:VTIMEZONE
TZID:Asia/Hong_Kong
BEGIN:STANDARD
DTSTART:20071104T020000
TZOFFSETFROM:+0700
TZOFFSETTO:+0800
TZNAME:HKT
END:STANDARD
END:VTIMEZONE
BEGIN:VEVENT
DTSTAMP;TZID=Asia/Hong_Kong:20260420T132902
DTSTART;TZID=Asia/Hong_Kong:20260127T100000
DTEND;TZID=Asia/Hong_Kong:20260127T130000
LOCATION: , HKUST
SUMMARY:PHD in Atmospheric Envrl Science - Enhancing Quantitative Precipitation Estimation in Mesoscale Numerical Weather Prediction Models: A Multifaceted Approach Utilizing Data Assimilation, Deep Multifaceted Approach Utilizing Data Assimilation, Deep
UID:46108
END:VEVENT
END:VCALENDAR