BEGIN:VCALENDAR
PRODID:-//HKUST Drupal Platform//EN
VERSION:2.0
BEGIN:VTIMEZONE
TZID:Asia/Hong_Kong
BEGIN:STANDARD
DTSTART:20071104T020000
TZOFFSETFROM:+0700
TZOFFSETTO:+0800
TZNAME:HKT
END:STANDARD
END:VTIMEZONE
BEGIN:VEVENT
DTSTAMP;TZID=Asia/Hong_Kong:20260420T192903
DTSTART;TZID=Asia/Hong_Kong:20260113T150000
DTEND;TZID=Asia/Hong_Kong:20260113T180000
LOCATION:Room 2463 (Lifts 25-26), 2/F Academic Building, HKUST
SUMMARY:PHD in Electronic & Comp Engg - SPAD-Based Time-of-Flight (ToF) Depth Sensor for LiDAR Applications
UID:46082
END:VEVENT
END:VCALENDAR