BEGIN:VCALENDAR
PRODID:-//HKUST Drupal Platform//EN
VERSION:2.0
BEGIN:VTIMEZONE
TZID:Asia/Hong_Kong
BEGIN:STANDARD
DTSTART:20071104T020000
TZOFFSETFROM:+0700
TZOFFSETTO:+0800
TZNAME:HKT
END:STANDARD
END:VTIMEZONE
BEGIN:VEVENT
DTSTAMP;TZID=Asia/Hong_Kong:20260421T211941
DTSTART;TZID=Asia/Hong_Kong:20260120T163000
DTEND;TZID=Asia/Hong_Kong:20260120T193000
LOCATION: , HKUST
SUMMARY:MPhil in Computer Science & Engg - Scalable Access Point Localization: Utilizing Crowdsourced Data through POIs and Wi-Fi Scans
UID:46009
END:VEVENT
END:VCALENDAR