BEGIN:VCALENDAR
PRODID:-//HKUST Drupal Platform//EN
VERSION:2.0
BEGIN:VTIMEZONE
TZID:Asia/Hong_Kong
BEGIN:STANDARD
DTSTART:20071104T020000
TZOFFSETFROM:+0700
TZOFFSETTO:+0800
TZNAME:HKT
END:STANDARD
END:VTIMEZONE
BEGIN:VEVENT
DTSTAMP;TZID=Asia/Hong_Kong:20260421T004957
DTSTART;TZID=Asia/Hong_Kong:20260114T140000
DTEND;TZID=Asia/Hong_Kong:20260114T170000
LOCATION: , HKUST
SUMMARY:MPhil in Life Science - Structural Analysis of the Mitochondrial-localized AAA+ ATPase ATAD1/Msp1
UID:46008
END:VEVENT
END:VCALENDAR