BEGIN:VCALENDAR
PRODID:-//HKUST Drupal Platform//EN
VERSION:2.0
BEGIN:VTIMEZONE
TZID:Asia/Hong_Kong
BEGIN:STANDARD
DTSTART:20071104T020000
TZOFFSETFROM:+0700
TZOFFSETTO:+0800
TZNAME:HKT
END:STANDARD
END:VTIMEZONE
BEGIN:VEVENT
DTSTAMP;TZID=Asia/Hong_Kong:20260420T221123
DTSTART;TZID=Asia/Hong_Kong:20251218T140000
DTEND;TZID=Asia/Hong_Kong:20251218T170000
LOCATION:Room 2128A (Lifts 19), 2/F. Academic Building; https://hkust.zoom.us/j/97520774563?pwd=Q9q6CtOG9QXJZZh0PMXKvxoJusBk9U.1 (Meeting ID: 975 2077 4563  Passcode: 620728), HKUST
SUMMARY:PHD in Mechanical Engineering - Scalable Operation-aware Aerodynamic Design
UID:45904
END:VEVENT
END:VCALENDAR