BEGIN:VCALENDAR
PRODID:-//HKUST Drupal Platform//EN
VERSION:2.0
BEGIN:VTIMEZONE
TZID:Asia/Hong_Kong
BEGIN:STANDARD
DTSTART:20071104T020000
TZOFFSETFROM:+0700
TZOFFSETTO:+0800
TZNAME:HKT
END:STANDARD
END:VTIMEZONE
BEGIN:VEVENT
DTSTAMP;TZID=Asia/Hong_Kong:20260420T180836
DTSTART;TZID=Asia/Hong_Kong:20251209T100000
DTEND;TZID=Asia/Hong_Kong:20251209T130000
LOCATION: , HKUST
SUMMARY:PHD in Individual Interdisci Prog - Toward Practical Neural 3D Reconstruction: Generalization, Sparse Views, and Pose-Free Methods
UID:45866
END:VEVENT
END:VCALENDAR