BEGIN:VCALENDAR
PRODID:-//HKUST Drupal Platform//EN
VERSION:2.0
BEGIN:VTIMEZONE
TZID:Asia/Hong_Kong
BEGIN:STANDARD
DTSTART:20071104T020000
TZOFFSETFROM:+0700
TZOFFSETTO:+0800
TZNAME:HKT
END:STANDARD
END:VTIMEZONE
BEGIN:VEVENT
DTSTAMP;TZID=Asia/Hong_Kong:20260420T132902
DTSTART;TZID=Asia/Hong_Kong:20251204T100000
DTEND;TZID=Asia/Hong_Kong:20251204T130000
LOCATION:Room 3598 (Lifts 27-28), 3/F Academic Building, HKUST
SUMMARY:PHD in Civil Engineering - Driving Net-Zero Shipping with Alternative Fuels: From Ports to Green Corridors
UID:45806
END:VEVENT
END:VCALENDAR