BEGIN:VCALENDAR
PRODID:-//HKUST Drupal Platform//EN
VERSION:2.0
BEGIN:VTIMEZONE
TZID:Asia/Hong_Kong
BEGIN:STANDARD
DTSTART:20071104T020000
TZOFFSETFROM:+0700
TZOFFSETTO:+0800
TZNAME:HKT
END:STANDARD
END:VTIMEZONE
BEGIN:VEVENT
DTSTAMP;TZID=Asia/Hong_Kong:20260420T221225
DTSTART;TZID=Asia/Hong_Kong:20260109T140000
DTEND;TZID=Asia/Hong_Kong:20260109T170000
LOCATION: , HKUST
SUMMARY:PHD in Electronic & Comp Engg - Graph Learning under Uncertainty: Applications to Signal Processing and Financial Engineering
UID:45743
END:VEVENT
END:VCALENDAR