BEGIN:VCALENDAR
PRODID:-//HKUST Drupal Platform//EN
VERSION:2.0
BEGIN:VTIMEZONE
TZID:Asia/Hong_Kong
BEGIN:STANDARD
DTSTART:20071104T020000
TZOFFSETFROM:+0700
TZOFFSETTO:+0800
TZNAME:HKT
END:STANDARD
END:VTIMEZONE
BEGIN:VEVENT
DTSTAMP;TZID=Asia/Hong_Kong:20260421T023026
DTSTART;TZID=Asia/Hong_Kong:20251126T140000
DTEND;TZID=Asia/Hong_Kong:20251126T170000
LOCATION: , HKUST
SUMMARY:PHD in Electronic & Comp Engg - New Liquid Crystal Alignment Technologies and Their Applications in Passive Vibration Sensing
UID:45590
END:VEVENT
END:VCALENDAR