BEGIN:VCALENDAR
PRODID:-//HKUST Drupal Platform//EN
VERSION:2.0
BEGIN:VTIMEZONE
TZID:Asia/Hong_Kong
BEGIN:STANDARD
DTSTART:20071104T020000
TZOFFSETFROM:+0700
TZOFFSETTO:+0800
TZNAME:HKT
END:STANDARD
END:VTIMEZONE
BEGIN:VEVENT
DTSTAMP;TZID=Asia/Hong_Kong:20260423T061948
DTSTART;TZID=Asia/Hong_Kong:20251205T090000
DTEND;TZID=Asia/Hong_Kong:20251205T180000
LOCATION:HKUST Jockey Club Institute for Advanced Study, Lo Ka Chung Building, Lee Shau Kee Campus, HKUST
SUMMARY:HKUST IAS-Asia Pacific Workshop on Frontiers in Quantum Matter
UID:45481
END:VEVENT
BEGIN:VEVENT
DTSTAMP;TZID=Asia/Hong_Kong:20260423T061948
DTSTART;TZID=Asia/Hong_Kong:20251206T090000
DTEND;TZID=Asia/Hong_Kong:20251206T180000
LOCATION:HKUST Jockey Club Institute for Advanced Study, Lo Ka Chung Building, Lee Shau Kee Campus, HKUST
SUMMARY:HKUST IAS-Asia Pacific Workshop on Frontiers in Quantum Matter
UID:45481
END:VEVENT
BEGIN:VEVENT
DTSTAMP;TZID=Asia/Hong_Kong:20260423T061948
DTSTART;TZID=Asia/Hong_Kong:20251207T090000
DTEND;TZID=Asia/Hong_Kong:20251207T180000
LOCATION:HKUST Jockey Club Institute for Advanced Study, Lo Ka Chung Building, Lee Shau Kee Campus, HKUST
SUMMARY:HKUST IAS-Asia Pacific Workshop on Frontiers in Quantum Matter
UID:45481
END:VEVENT
BEGIN:VEVENT
DTSTAMP;TZID=Asia/Hong_Kong:20260423T061948
DTSTART;TZID=Asia/Hong_Kong:20251208T090000
DTEND;TZID=Asia/Hong_Kong:20251208T180000
LOCATION:HKUST Jockey Club Institute for Advanced Study, Lo Ka Chung Building, Lee Shau Kee Campus, HKUST
SUMMARY:HKUST IAS-Asia Pacific Workshop on Frontiers in Quantum Matter
UID:45481
END:VEVENT
BEGIN:VEVENT
DTSTAMP;TZID=Asia/Hong_Kong:20260423T061948
DTSTART;TZID=Asia/Hong_Kong:20251209T090000
DTEND;TZID=Asia/Hong_Kong:20251209T180000
LOCATION:HKUST Jockey Club Institute for Advanced Study, Lo Ka Chung Building, Lee Shau Kee Campus, HKUST
SUMMARY:HKUST IAS-Asia Pacific Workshop on Frontiers in Quantum Matter
UID:45481
END:VEVENT
END:VCALENDAR