BEGIN:VCALENDAR
PRODID:-//HKUST Drupal Platform//EN
VERSION:2.0
BEGIN:VTIMEZONE
TZID:Asia/Hong_Kong
BEGIN:STANDARD
DTSTART:20071104T020000
TZOFFSETFROM:+0700
TZOFFSETTO:+0800
TZNAME:HKT
END:STANDARD
END:VTIMEZONE
BEGIN:VEVENT
DTSTAMP;TZID=Asia/Hong_Kong:20260420T192941
DTSTART;TZID=Asia/Hong_Kong:20251124T160000
DTEND;TZID=Asia/Hong_Kong:20251124T190000
LOCATION: , HKUST
SUMMARY:MPhil in Computer Science & Engg - Orchestrating Multi‑Agent Systems for End‑to‑End Climate Data Science Workflows
UID:45474
END:VEVENT
END:VCALENDAR