BEGIN:VCALENDAR
PRODID:-//HKUST Drupal Platform//EN
VERSION:2.0
BEGIN:VTIMEZONE
TZID:Asia/Hong_Kong
BEGIN:STANDARD
DTSTART:20071104T020000
TZOFFSETFROM:+0700
TZOFFSETTO:+0800
TZNAME:HKT
END:STANDARD
END:VTIMEZONE
BEGIN:VEVENT
DTSTAMP;TZID=Asia/Hong_Kong:20260420T221128
DTSTART;TZID=Asia/Hong_Kong:20251114T093000
DTEND;TZID=Asia/Hong_Kong:20251114T123000
LOCATION: , HKUST
SUMMARY:PHD in Computer Science & Engg - Serendipitous Togetherness: Multimodal Designs for Shared Experiences across Time and Space
UID:45404
END:VEVENT
END:VCALENDAR